BEGIN:VCALENDAR
PRODID:-//eluceo/ical//2.0/EN
VERSION:2.0
CALSCALE:GREGORIAN
BEGIN:VEVENT
UID:1cd9f034769549e2ae3181be8378c740
DTSTAMP:20260422T103209Z
SUMMARY:Hvernig er að vera stjórnandi hjá Pepsi í USA?
DESCRIPTION:Speaker(s): Hvernig kemur það til að íslendingur verður st
 jórnandi hjá Kellogg's og Pepsi í USA? Þórhallur Örn Flosason segir 
 okkur frá störfum sínum og lífi í USA.Tengillinn er á fundinn er þe
 ssi: https://us06web.zoom.us/j/77990613474?pwd=m3umoWksmeTmX067hJwm5Drpy7
 Clpj.1Lykilorðið er \n\nDtS01iGestir velkomnir!Dagskrá fundarins:16:45
  - 17:00 Spjall þáttakenda17:00 - 17:05 Fundur settur - Hugvekju flytur 
 Elín Björnsdóttir17:05 - Fundur og fundarefni flutt\n\n
URL:https://e-club.rotary1360.is/en/agenda/show/6262
DTSTART;TZID=Iceland:20250205T164500
DTEND;TZID=Iceland:20250205T181500
LOCATION:Netfundur\, Rotary eClub netfundur\, Faxatúni 32\, 210 Garðabær
 \, Ísland
CATEGORIES:Rotary
END:VEVENT
BEGIN:VTIMEZONE
TZID:Iceland
BEGIN:STANDARD
DTSTART:20250205T164500
TZNAME:GMT
TZOFFSETTO:+0000
TZOFFSETFROM:+0000
END:STANDARD
END:VTIMEZONE
END:VCALENDAR
